BEGIN:VCALENDAR
VERSION:2.0
PRODID:-//project/author//NONSGML v1.0//EN
CALSCALE:GREGORIAN
BEGIN:VEVENT
DTEND;TZID=Europe/Vienna:20171214T170000
UID:453
DTSTAMP;TZID=Europe/Vienna:20260420T163526
LOCATION:KLI
SUMMARY:LabExcursion of the Cognitive Science Students of the University of Vienna
DTSTART;TZID=Europe/Vienna:20171214T140000
END:VEVENT
END:VCALENDAR